Package: MsBackendSql Version: 1.7.3 Command: chmod a+r MsBackendSql -R && E:\biocbuild\bbs-3.21-bioc\R\bin\R.exe CMD build --keep-empty-dirs --no-resave-data MsBackendSql StartedAt: 2025-02-18 20:05:11 -0500 (Tue, 18 Feb 2025) EndedAt: 2025-02-18 20:10:44 -0500 (Tue, 18 Feb 2025) EllapsedTime: 333.0 seconds RetCode: 0 Status: OK PackageFile: MsBackendSql_1.7.3.tar.gz PackageFileSize: 340.9 KiB