Package: MsBackendSql Version: 1.8.0 Command: /Library/Frameworks/R.framework/Resources/bin/R CMD build --keep-empty-dirs --no-resave-data MsBackendSql StartedAt: 2025-10-13 20:52:42 -0400 (Mon, 13 Oct 2025) EndedAt: 2025-10-13 20:54:52 -0400 (Mon, 13 Oct 2025) EllapsedTime: 129.9 seconds RetCode: 0 Status: OK PackageFile: MsBackendSql_1.8.0.tar.gz PackageFileSize: 340.8 KiB