Package: MsBackendSql Version: 1.8.0 Command: /Library/Frameworks/R.framework/Resources/bin/R CMD build --keep-empty-dirs --no-resave-data MsBackendSql StartedAt: 2025-10-14 05:05:33 -0400 (Tue, 14 Oct 2025) EndedAt: 2025-10-14 05:07:07 -0400 (Tue, 14 Oct 2025) EllapsedTime: 94.3 seconds RetCode: 0 Status: OK PackageFile: MsBackendSql_1.8.0.tar.gz PackageFileSize: 340.8 KiB