Package: MsBackendRawFileReader Version: 1.13.1 Command: /Library/Frameworks/R.framework/Resources/bin/R CMD build --keep-empty-dirs --no-resave-data MsBackendRawFileReader StartedAt: 2025-02-21 17:29:50 -0500 (Fri, 21 Feb 2025) EndedAt: 2025-02-21 17:32:31 -0500 (Fri, 21 Feb 2025) EllapsedTime: 161.0 seconds RetCode: 0 Status: OK PackageFile: MsBackendRawFileReader_1.13.1.tar.gz PackageFileSize: 1.467 MiB