Package: MsBackendRawFileReader Version: 1.13.1 Command: rm -rf MsBackendRawFileReader.buildbin-libdir && mkdir MsBackendRawFileReader.buildbin-libdir && /Users/biocbuild/BBS/utils/build-universal.sh MsBackendRawFileReader_1.13.1.tar.gz /Library/Frameworks/R.framework/Resources/bin/R MsBackendRawFileReader.buildbin-libdir StartedAt: 2025-02-22 00:42:35 -0500 (Sat, 22 Feb 2025) EndedAt: 2025-02-22 00:42:52 -0500 (Sat, 22 Feb 2025) EllapsedTime: 17.2 seconds RetCode: 0 Status: OK PackageFile: MsBackendRawFileReader_1.13.1.tgz PackageFileSize: 1.248 MiB