Package: MsBackendRawFileReader Version: 1.13.1 Command: /Library/Frameworks/R.framework/Resources/bin/R CMD INSTALL MsBackendRawFileReader StartedAt: 2025-02-21 15:08:08 -0500 (Fri, 21 Feb 2025) EndedAt: 2025-02-21 15:08:12 -0500 (Fri, 21 Feb 2025) EllapsedTime: 4.2 seconds RetCode: 0 Status: OK