Package: MsBackendMsp Version: 1.11.1 Command: E:\biocbuild\bbs-3.21-bioc\R\bin\R.exe CMD INSTALL MsBackendMsp StartedAt: 2025-02-20 15:39:55 -0500 (Thu, 20 Feb 2025) EndedAt: 2025-02-20 15:40:13 -0500 (Thu, 20 Feb 2025) EllapsedTime: 18.1 seconds RetCode: 0 Status: OK