Package: MsBackendMsp Version: 1.11.1 Command: E:\biocbuild\bbs-3.21-bioc\R\bin\R.exe CMD check --no-multiarch --install=check:MsBackendMsp.install-out.txt --library=E:\biocbuild\bbs-3.21-bioc\R\library --no-vignettes --timings MsBackendMsp_1.11.1.tar.gz StartedAt: 2025-02-21 03:34:34 -0500 (Fri, 21 Feb 2025) EndedAt: 2025-02-21 03:36:06 -0500 (Fri, 21 Feb 2025) EllapsedTime: 91.5 seconds RetCode: 0 Status: OK CheckDir: MsBackendMsp.Rcheck Warnings: 0