Package: MsBackendMsp Version: 1.11.1 Command: chmod a+r MsBackendMsp -R && E:\biocbuild\bbs-3.21-bioc\R\bin\R.exe CMD build --keep-empty-dirs --no-resave-data MsBackendMsp StartedAt: 2025-02-20 20:10:54 -0500 (Thu, 20 Feb 2025) EndedAt: 2025-02-20 20:11:23 -0500 (Thu, 20 Feb 2025) EllapsedTime: 29.3 seconds RetCode: 0 Status: OK PackageFile: MsBackendMsp_1.11.1.tar.gz PackageFileSize: 324.9 KiB