Package: MsBackendMsp Version: 1.11.1 Command: rm -rf MsBackendMsp.buildbin-libdir && mkdir MsBackendMsp.buildbin-libdir && E:\biocbuild\bbs-3.21-bioc\R\bin\R.exe CMD INSTALL --build --library=MsBackendMsp.buildbin-libdir MsBackendMsp_1.11.1.tar.gz StartedAt: 2025-02-21 08:36:16 -0500 (Fri, 21 Feb 2025) EndedAt: 2025-02-21 08:36:36 -0500 (Fri, 21 Feb 2025) EllapsedTime: 19.8 seconds RetCode: 0 Status: OK PackageFile: MsBackendMsp_1.11.1.zip PackageFileSize: 372.2 KiB