Package: MsBackendMsp Version: 1.11.1 Command: /home/biocbuild/bbs-3.21-bioc/R/bin/R CMD INSTALL MsBackendMsp StartedAt: 2025-02-19 15:14:28 -0500 (Wed, 19 Feb 2025) EndedAt: 2025-02-19 15:14:37 -0500 (Wed, 19 Feb 2025) EllapsedTime: 8.8 seconds RetCode: 0 Status: OK