Package: MsBackendMsp Version: 1.11.1 Command: /home/biocbuild/bbs-3.21-bioc/R/bin/R CMD check --install=check:MsBackendMsp.install-out.txt --library=/home/biocbuild/bbs-3.21-bioc/R/site-library --timings MsBackendMsp_1.11.1.tar.gz StartedAt: 2025-02-20 00:22:49 -0500 (Thu, 20 Feb 2025) EndedAt: 2025-02-20 00:24:08 -0500 (Thu, 20 Feb 2025) EllapsedTime: 79.1 seconds RetCode: 0 Status: OK CheckDir: MsBackendMsp.Rcheck Warnings: 0