Package: MsBackendMsp Version: 1.12.0 Command: rm -rf MsBackendMsp.buildbin-libdir && mkdir MsBackendMsp.buildbin-libdir && /Users/biocbuild/BBS/utils/build-universal.sh MsBackendMsp_1.12.0.tar.gz /Library/Frameworks/R.framework/Resources/bin/R MsBackendMsp.buildbin-libdir StartedAt: 2025-10-14 14:10:34 -0400 (Tue, 14 Oct 2025) EndedAt: 2025-10-14 14:11:08 -0400 (Tue, 14 Oct 2025) EllapsedTime: 34.5 seconds RetCode: 0 Status: OK PackageFile: MsBackendMsp_1.12.0.tgz PackageFileSize: 364.7 KiB