Package: MsBackendMsp Version: 1.11.1 Command: /Library/Frameworks/R.framework/Resources/bin/R CMD check --install=check:MsBackendMsp.install-out.txt --library=/Library/Frameworks/R.framework/Resources/library --no-vignettes --timings MsBackendMsp_1.11.1.tar.gz StartedAt: 2025-02-19 21:49:19 -0500 (Wed, 19 Feb 2025) EndedAt: 2025-02-19 21:50:50 -0500 (Wed, 19 Feb 2025) EllapsedTime: 90.5 seconds RetCode: 0 Status: OK CheckDir: MsBackendMsp.Rcheck Warnings: 0