Package: MsBackendMsp Version: 1.12.0 Command: /home/biocbuild/R/R/bin/R CMD INSTALL MsBackendMsp StartedAt: 2025-10-13 20:26:55 -0000 (Mon, 13 Oct 2025) EndedAt: 2025-10-13 20:27:07 -0000 (Mon, 13 Oct 2025) EllapsedTime: 12.5 seconds RetCode: 0 Status: OK