Package: MsBackendMsp Version: 1.12.0 Command: /home/biocbuild/R/R/bin/R CMD build --keep-empty-dirs --no-resave-data MsBackendMsp StartedAt: 2025-10-14 02:48:42 -0000 (Tue, 14 Oct 2025) EndedAt: 2025-10-14 02:49:05 -0000 (Tue, 14 Oct 2025) EllapsedTime: 23.0 seconds RetCode: 0 Status: OK PackageFile: MsBackendMsp_1.12.0.tar.gz PackageFileSize: 391.6 KiB