Package: MsBackendMetaboLights Version: 1.1.0 Command: chmod a+r MsBackendMetaboLights -R && E:\biocbuild\bbs-3.21-bioc\R\bin\R.exe CMD build --keep-empty-dirs --no-resave-data MsBackendMetaboLights StartedAt: 2025-02-19 20:08:20 -0500 (Wed, 19 Feb 2025) EndedAt: 2025-02-19 20:09:28 -0500 (Wed, 19 Feb 2025) EllapsedTime: 68.0 seconds RetCode: 0 Status: OK PackageFile: MsBackendMetaboLights_1.1.0.tar.gz PackageFileSize: 308.6 KiB