Package: MsBackendMetaboLights Version: 1.1.0 Command: /home/biocbuild/bbs-3.21-bioc/R/bin/R CMD INSTALL MsBackendMetaboLights StartedAt: 2025-02-19 15:14:26 -0500 (Wed, 19 Feb 2025) EndedAt: 2025-02-19 15:14:39 -0500 (Wed, 19 Feb 2025) EllapsedTime: 13.2 seconds RetCode: 0 Status: OK