Package: MsBackendMassbank Version: 1.15.2 Command: E:\biocbuild\bbs-3.21-bioc\R\bin\R.exe CMD check --no-multiarch --install=check:MsBackendMassbank.install-out.txt --library=E:\biocbuild\bbs-3.21-bioc\R\library --no-vignettes --timings MsBackendMassbank_1.15.2.tar.gz StartedAt: 2025-02-20 03:17:02 -0500 (Thu, 20 Feb 2025) EndedAt: 2025-02-20 03:20:35 -0500 (Thu, 20 Feb 2025) EllapsedTime: 213.3 seconds RetCode: 0 Status: OK CheckDir: MsBackendMassbank.Rcheck Warnings: 0