Package: MsBackendMassbank Version: 1.15.2 Command: chmod a+r MsBackendMassbank -R && E:\biocbuild\bbs-3.21-bioc\R\bin\R.exe CMD build --keep-empty-dirs --no-resave-data MsBackendMassbank StartedAt: 2025-02-19 20:08:04 -0500 (Wed, 19 Feb 2025) EndedAt: 2025-02-19 20:08:58 -0500 (Wed, 19 Feb 2025) EllapsedTime: 53.9 seconds RetCode: 0 Status: OK PackageFile: MsBackendMassbank_1.15.2.tar.gz PackageFileSize: 397.7 KiB