Package: MsBackendMassbank Version: 1.15.2 Command: rm -rf MsBackendMassbank.buildbin-libdir && mkdir MsBackendMassbank.buildbin-libdir && E:\biocbuild\bbs-3.21-bioc\R\bin\R.exe CMD INSTALL --build --library=MsBackendMassbank.buildbin-libdir MsBackendMassbank_1.15.2.tar.gz StartedAt: 2025-02-20 08:15:26 -0500 (Thu, 20 Feb 2025) EndedAt: 2025-02-20 08:16:15 -0500 (Thu, 20 Feb 2025) EllapsedTime: 49.5 seconds RetCode: 0 Status: OK PackageFile: MsBackendMassbank_1.15.2.zip PackageFileSize: 619.5 KiB