Package: MsBackendMassbank Version: 1.15.2 Command: /home/biocbuild/bbs-3.21-bioc/R/bin/R CMD check --install=check:MsBackendMassbank.install-out.txt --library=/home/biocbuild/bbs-3.21-bioc/R/site-library --timings MsBackendMassbank_1.15.2.tar.gz StartedAt: 2025-02-20 00:22:09 -0500 (Thu, 20 Feb 2025) EndedAt: 2025-02-20 00:24:07 -0500 (Thu, 20 Feb 2025) EllapsedTime: 118.3 seconds RetCode: 0 Status: OK CheckDir: MsBackendMassbank.Rcheck Warnings: 0