Package: MouseFM Version: 1.17.0 Command: E:\biocbuild\bbs-3.21-bioc\R\bin\R.exe CMD check --no-multiarch --install=check:MouseFM.install-out.txt --library=E:\biocbuild\bbs-3.21-bioc\R\library --no-vignettes --timings MouseFM_1.17.0.tar.gz StartedAt: 2025-02-19 03:07:30 -0500 (Wed, 19 Feb 2025) EndedAt: 2025-02-19 03:12:36 -0500 (Wed, 19 Feb 2025) EllapsedTime: 305.7 seconds RetCode: 0 Status: OK CheckDir: MouseFM.Rcheck Warnings: 0