Package: MouseFM Version: 1.17.0 Command: /home/biocbuild/bbs-3.21-bioc/R/bin/R CMD check --install=check:MouseFM.install-out.txt --library=/home/biocbuild/bbs-3.21-bioc/R/site-library --timings MouseFM_1.17.0.tar.gz StartedAt: 2025-02-20 00:18:54 -0500 (Thu, 20 Feb 2025) EndedAt: 2025-02-20 00:23:51 -0500 (Thu, 20 Feb 2025) EllapsedTime: 297.4 seconds RetCode: 0 Status: OK CheckDir: MouseFM.Rcheck Warnings: 0