Package: MouseFM Version: 1.17.0 Command: /Library/Frameworks/R.framework/Resources/bin/R CMD build --keep-empty-dirs --no-resave-data MouseFM StartedAt: 2025-02-19 17:02:44 -0500 (Wed, 19 Feb 2025) EndedAt: 2025-02-19 17:03:22 -0500 (Wed, 19 Feb 2025) EllapsedTime: 38.4 seconds RetCode: 0 Status: OK PackageFile: MouseFM_1.17.0.tar.gz PackageFileSize: 768.1 KiB