Package: MotifPeeker Version: 0.99.13 Command: /home/biocbuild/bbs-3.21-bioc/R/bin/R CMD INSTALL MotifPeeker StartedAt: 2025-02-20 15:37:08 -0500 (Thu, 20 Feb 2025) EndedAt: 2025-02-20 15:37:47 -0500 (Thu, 20 Feb 2025) EllapsedTime: 38.5 seconds RetCode: 0 Status: OK