Package: MotifPeeker Version: 0.99.13 Command: /home/biocbuild/bbs-3.21-bioc/R/bin/R CMD check --install=check:MotifPeeker.install-out.txt --library=/home/biocbuild/bbs-3.21-bioc/R/site-library --timings MotifPeeker_0.99.13.tar.gz StartedAt: 2025-02-20 23:50:29 -0500 (Thu, 20 Feb 2025) EndedAt: 2025-02-20 23:55:46 -0500 (Thu, 20 Feb 2025) EllapsedTime: 317.5 seconds RetCode: 0 Status: OK CheckDir: MotifPeeker.Rcheck Warnings: 0