Package: MotifPeeker Version: 0.99.13 Command: /Library/Frameworks/R.framework/Resources/bin/R CMD build --keep-empty-dirs --no-resave-data MotifPeeker StartedAt: 2025-02-21 17:27:53 -0500 (Fri, 21 Feb 2025) EndedAt: 2025-02-21 17:33:05 -0500 (Fri, 21 Feb 2025) EllapsedTime: 311.9 seconds RetCode: 0 Status: OK PackageFile: MotifPeeker_0.99.13.tar.gz PackageFileSize: 3.351 MiB