Package: MotifPeeker Version: 0.99.13 Command: rm -rf MotifPeeker.buildbin-libdir && mkdir MotifPeeker.buildbin-libdir && /Users/biocbuild/BBS/utils/build-universal.sh MotifPeeker_0.99.13.tar.gz /Library/Frameworks/R.framework/Resources/bin/R MotifPeeker.buildbin-libdir StartedAt: 2025-02-22 00:42:15 -0500 (Sat, 22 Feb 2025) EndedAt: 2025-02-22 00:43:11 -0500 (Sat, 22 Feb 2025) EllapsedTime: 55.3 seconds RetCode: 0 Status: OK PackageFile: MotifPeeker_0.99.13.tgz PackageFileSize: 3.501 MiB