Package: MotifPeeker Version: 0.99.13 Command: /home/biocbuild/R/R/bin/R CMD check --install=check:MotifPeeker.install-out.txt --library=/home/biocbuild/R/R/site-library --no-vignettes --timings MotifPeeker_0.99.13.tar.gz StartedAt: 2025-01-28 12:45:26 -0000 (Tue, 28 Jan 2025) EndedAt: 2025-01-28 13:25:26 -0000 (Tue, 28 Jan 2025) EllapsedTime: 2400.5 seconds RetCode: None Status: TIMEOUT CheckDir: MotifPeeker.Rcheck Warnings: NA