Package: Motif2Site Version: 1.11.0 Command: E:\biocbuild\bbs-3.21-bioc\R\bin\R.exe CMD INSTALL Motif2Site StartedAt: 2025-02-19 16:30:16 -0500 (Wed, 19 Feb 2025) EndedAt: 2025-02-19 16:30:39 -0500 (Wed, 19 Feb 2025) EllapsedTime: 23.6 seconds RetCode: 0 Status: OK