Package: Motif2Site Version: 1.11.0 Command: /Library/Frameworks/R.framework/Resources/bin/R CMD check --install=check:Motif2Site.install-out.txt --library=/Library/Frameworks/R.framework/Resources/library --no-vignettes --timings Motif2Site_1.11.0.tar.gz StartedAt: 2025-02-19 20:20:04 -0500 (Wed, 19 Feb 2025) EndedAt: 2025-02-19 20:24:22 -0500 (Wed, 19 Feb 2025) EllapsedTime: 257.9 seconds RetCode: 0 Status: OK CheckDir: Motif2Site.Rcheck Warnings: 0