Package: Motif2Site Version: 1.11.0 Maintainer: Peyman Zarrineh MaintainerEmail: peyman.zarrineh at manchester.ac.uk git_url: https://git.bioconductor.org/packages/Motif2Site git_branch: devel git_last_commit: 9d1afd0 git_last_commit_date: 2024-10-29 11:08:26 -0500 (Tue, 29 Oct 2024)