Package: MoonlightR Version: 1.33.0 Command: rm -rf MoonlightR.buildbin-libdir && mkdir MoonlightR.buildbin-libdir && E:\biocbuild\bbs-3.21-bioc\R\bin\R.exe CMD INSTALL --build --library=MoonlightR.buildbin-libdir MoonlightR_1.33.0.tar.gz StartedAt: 2025-02-21 08:35:03 -0500 (Fri, 21 Feb 2025) EndedAt: 2025-02-21 08:35:55 -0500 (Fri, 21 Feb 2025) EllapsedTime: 52.5 seconds RetCode: 0 Status: OK PackageFile: MoonlightR_1.33.0.zip PackageFileSize: 8.66 MiB