Package: MoonlightR Version: 1.33.0 Command: /home/biocbuild/bbs-3.21-bioc/R/bin/R CMD INSTALL MoonlightR StartedAt: 2025-02-21 16:28:42 -0500 (Fri, 21 Feb 2025) EndedAt: 2025-02-21 16:29:33 -0500 (Fri, 21 Feb 2025) EllapsedTime: 50.4 seconds RetCode: 0 Status: OK