Package: MoonlightR Version: 1.33.0 Command: /home/biocbuild/bbs-3.21-bioc/R/bin/R CMD build --keep-empty-dirs --no-resave-data MoonlightR StartedAt: 2025-02-20 18:17:26 -0500 (Thu, 20 Feb 2025) EndedAt: 2025-02-20 18:19:35 -0500 (Thu, 20 Feb 2025) EllapsedTime: 129.2 seconds RetCode: 0 Status: OK PackageFile: MoonlightR_1.33.0.tar.gz PackageFileSize: 14.75 MiB