Package: MoonlightR Version: 1.33.0 Command: /Library/Frameworks/R.framework/Resources/bin/R CMD check --install=check:MoonlightR.install-out.txt --library=/Library/Frameworks/R.framework/Resources/library --no-vignettes --timings MoonlightR_1.33.0.tar.gz StartedAt: 2025-02-21 21:45:31 -0500 (Fri, 21 Feb 2025) EndedAt: 2025-02-21 21:53:26 -0500 (Fri, 21 Feb 2025) EllapsedTime: 475.3 seconds RetCode: 0 Status: OK CheckDir: MoonlightR.Rcheck Warnings: 0