Package: Moonlight2R Version: 1.5.4 Command: E:\biocbuild\bbs-3.21-bioc\R\bin\R.exe CMD check --no-multiarch --install=check:Moonlight2R.install-out.txt --library=E:\biocbuild\bbs-3.21-bioc\R\library --no-vignettes --timings Moonlight2R_1.5.4.tar.gz StartedAt: 2025-02-19 03:04:20 -0500 (Wed, 19 Feb 2025) EndedAt: 2025-02-19 03:17:14 -0500 (Wed, 19 Feb 2025) EllapsedTime: 774.3 seconds RetCode: 0 Status: OK CheckDir: Moonlight2R.Rcheck Warnings: 0