Package: Moonlight2R Version: 1.5.4 Command: rm -rf Moonlight2R.buildbin-libdir && mkdir Moonlight2R.buildbin-libdir && E:\biocbuild\bbs-3.21-bioc\R\bin\R.exe CMD INSTALL --build --library=Moonlight2R.buildbin-libdir Moonlight2R_1.5.4.tar.gz StartedAt: 2025-02-19 07:53:40 -0500 (Wed, 19 Feb 2025) EndedAt: 2025-02-19 07:55:28 -0500 (Wed, 19 Feb 2025) EllapsedTime: 108.2 seconds RetCode: 0 Status: OK PackageFile: Moonlight2R_1.5.4.zip PackageFileSize: 4.6 MiB