Package: Moonlight2R Version: 1.5.4 Command: /Library/Frameworks/R.framework/Resources/bin/R CMD INSTALL Moonlight2R StartedAt: 2025-02-17 15:35:59 -0500 (Mon, 17 Feb 2025) EndedAt: 2025-02-17 15:37:12 -0500 (Mon, 17 Feb 2025) EllapsedTime: 72.8 seconds RetCode: 0 Status: OK