Package: Moonlight2R Version: 1.5.4 Command: /home/biocbuild/R/R/bin/R CMD check --install=check:Moonlight2R.install-out.txt --library=/home/biocbuild/R/R/site-library --no-vignettes --timings Moonlight2R_1.5.4.tar.gz StartedAt: 2025-01-28 12:42:17 -0000 (Tue, 28 Jan 2025) EndedAt: 2025-01-28 12:59:29 -0000 (Tue, 28 Jan 2025) EllapsedTime: 1031.4 seconds RetCode: 0 Status: WARNINGS CheckDir: Moonlight2R.Rcheck Warnings: 5