Package: MoleculeExperiment Version: 1.7.0 Command: /Library/Frameworks/R.framework/Resources/bin/R CMD INSTALL MoleculeExperiment StartedAt: 2025-02-19 15:44:28 -0500 (Wed, 19 Feb 2025) EndedAt: 2025-02-19 15:45:23 -0500 (Wed, 19 Feb 2025) EllapsedTime: 54.8 seconds RetCode: 0 Status: OK