Package: MoleculeExperiment Version: 1.7.0 Command: /Library/Frameworks/R.framework/Resources/bin/R CMD build --keep-empty-dirs --no-resave-data MoleculeExperiment StartedAt: 2025-02-19 17:24:36 -0500 (Wed, 19 Feb 2025) EndedAt: 2025-02-19 17:27:15 -0500 (Wed, 19 Feb 2025) EllapsedTime: 158.7 seconds RetCode: 0 Status: OK PackageFile: MoleculeExperiment_1.7.0.tar.gz PackageFileSize: 15.83 MiB