Package: MoleculeExperiment Version: 1.7.0 Command: /Library/Frameworks/R.framework/Resources/bin/R CMD INSTALL MoleculeExperiment StartedAt: 2025-02-19 15:29:32 -0500 (Wed, 19 Feb 2025) EndedAt: 2025-02-19 15:29:49 -0500 (Wed, 19 Feb 2025) EllapsedTime: 16.5 seconds RetCode: 0 Status: OK