Package: Modstrings Version: 1.23.0 Command: E:\biocbuild\bbs-3.21-bioc\R\bin\R.exe CMD INSTALL Modstrings StartedAt: 2025-02-20 15:47:33 -0500 (Thu, 20 Feb 2025) EndedAt: 2025-02-20 15:49:22 -0500 (Thu, 20 Feb 2025) EllapsedTime: 109.6 seconds RetCode: 0 Status: OK