Package: Modstrings Version: 1.23.0 Command: E:\biocbuild\bbs-3.21-bioc\R\bin\R.exe CMD check --no-multiarch --install=check:Modstrings.install-out.txt --library=E:\biocbuild\bbs-3.21-bioc\R\library --no-vignettes --timings Modstrings_1.23.0.tar.gz StartedAt: 2025-02-21 03:24:54 -0500 (Fri, 21 Feb 2025) EndedAt: 2025-02-21 03:27:34 -0500 (Fri, 21 Feb 2025) EllapsedTime: 160.5 seconds RetCode: 0 Status: OK CheckDir: Modstrings.Rcheck Warnings: 0