Package: Modstrings Version: 1.23.0 Command: /Library/Frameworks/R.framework/Resources/bin/R CMD INSTALL Modstrings StartedAt: 2025-02-19 15:10:58 -0500 (Wed, 19 Feb 2025) EndedAt: 2025-02-19 15:11:22 -0500 (Wed, 19 Feb 2025) EllapsedTime: 23.8 seconds RetCode: 0 Status: OK