Package: Modstrings Version: 1.23.0 Command: /Library/Frameworks/R.framework/Resources/bin/R CMD check --install=check:Modstrings.install-out.txt --library=/Library/Frameworks/R.framework/Resources/library --no-vignettes --timings Modstrings_1.23.0.tar.gz StartedAt: 2025-02-19 21:43:42 -0500 (Wed, 19 Feb 2025) EndedAt: 2025-02-19 21:46:13 -0500 (Wed, 19 Feb 2025) EllapsedTime: 150.9 seconds RetCode: 0 Status: OK CheckDir: Modstrings.Rcheck Warnings: 0