Package: Modstrings Version: 1.23.0 Command: /Library/Frameworks/R.framework/Resources/bin/R CMD build --keep-empty-dirs --no-resave-data Modstrings StartedAt: 2025-02-19 17:24:12 -0500 (Wed, 19 Feb 2025) EndedAt: 2025-02-19 17:24:53 -0500 (Wed, 19 Feb 2025) EllapsedTime: 41.0 seconds RetCode: 0 Status: OK PackageFile: Modstrings_1.23.0.tar.gz PackageFileSize: 823.3 KiB