Package: ModCon Version: 1.16.0 Command: rm -rf ModCon.buildbin-libdir && mkdir ModCon.buildbin-libdir && /Users/biocbuild/BBS/utils/build-universal.sh ModCon_1.16.0.tar.gz /Library/Frameworks/R.framework/Resources/bin/R ModCon.buildbin-libdir StartedAt: 2025-10-07 13:47:51 -0400 (Tue, 07 Oct 2025) EndedAt: 2025-10-07 13:48:19 -0400 (Tue, 07 Oct 2025) EllapsedTime: 27.8 seconds RetCode: 0 Status: OK PackageFile: ModCon_1.16.0.tgz PackageFileSize: 1.956 MiB